BEGIN:VCALENDAR
VERSION:2.0
PRODID:-//Das Evangelische Mörike - ECPv6.15.20//NONSGML v1.0//EN
CALSCALE:GREGORIAN
METHOD:PUBLISH
X-WR-CALNAME:Das Evangelische Mörike
X-ORIGINAL-URL:https://das-moerike.de
X-WR-CALDESC:Veranstaltungen für Das Evangelische Mörike
REFRESH-INTERVAL;VALUE=DURATION:PT1H
X-Robots-Tag:noindex
X-PUBLISHED-TTL:PT1H
BEGIN:VTIMEZONE
TZID:Europe/Berlin
BEGIN:DAYLIGHT
TZOFFSETFROM:+0100
TZOFFSETTO:+0200
TZNAME:CEST
DTSTART:20250330T010000
END:DAYLIGHT
BEGIN:STANDARD
TZOFFSETFROM:+0200
TZOFFSETTO:+0100
TZNAME:CET
DTSTART:20251026T010000
END:STANDARD
BEGIN:DAYLIGHT
TZOFFSETFROM:+0100
TZOFFSETTO:+0200
TZNAME:CEST
DTSTART:20260329T010000
END:DAYLIGHT
BEGIN:STANDARD
TZOFFSETFROM:+0200
TZOFFSETTO:+0100
TZNAME:CET
DTSTART:20261025T010000
END:STANDARD
BEGIN:DAYLIGHT
TZOFFSETFROM:+0100
TZOFFSETTO:+0200
TZNAME:CEST
DTSTART:20270328T010000
END:DAYLIGHT
BEGIN:STANDARD
TZOFFSETFROM:+0200
TZOFFSETTO:+0100
TZNAME:CET
DTSTART:20271031T010000
END:STANDARD
END:VTIMEZONE
BEGIN:VEVENT
DTSTART;TZID=Europe/Berlin:20260417T080000
DTEND;TZID=Europe/Berlin:20260508T170000
DTSTAMP:20260424T011205
CREATED:20260412T104653Z
LAST-MODIFIED:20260412T104653Z
UID:20124-1776412800-1778259600@das-moerike.de
SUMMARY:Abiturprüfungen vom 17.04. bis 08.05.2026
DESCRIPTION:
URL:https://das-moerike.de/veranstaltung/abiturpruefungen-vom-17-04-bis-08-05-2026/
CATEGORIES:Abitur
END:VEVENT
BEGIN:VEVENT
DTSTART;TZID=Europe/Berlin:20260419T080000
DTEND;TZID=Europe/Berlin:20260424T170000
DTSTAMP:20260424T011205
CREATED:20260412T104824Z
LAST-MODIFIED:20260412T104824Z
UID:20126-1776585600-1777050000@das-moerike.de
SUMMARY:Londonfahrt der 8ten Klassen
DESCRIPTION:
URL:https://das-moerike.de/veranstaltung/londonfahrt-der-8ten-klassen/
CATEGORIES:Klassenfahrt
END:VEVENT
BEGIN:VEVENT
DTSTART;TZID=Europe/Berlin:20260420T080000
DTEND;TZID=Europe/Berlin:20260430T170000
DTSTAMP:20260424T011205
CREATED:20260412T105151Z
LAST-MODIFIED:20260412T105151Z
UID:20130-1776672000-1777568400@das-moerike.de
SUMMARY:Diakonisches Praktikum der Klassen 9abG
DESCRIPTION:
URL:https://das-moerike.de/veranstaltung/diakonisches-praktikum-der-klassen-9abg/
CATEGORIES:Praktikum
END:VEVENT
BEGIN:VEVENT
DTSTART;TZID=Europe/Berlin:20260420T080000
DTEND;TZID=Europe/Berlin:20260430T170000
DTSTAMP:20260424T011205
CREATED:20260412T105316Z
LAST-MODIFIED:20260412T105316Z
UID:20132-1776672000-1777568400@das-moerike.de
SUMMARY:BOP der Klassen 10abG
DESCRIPTION:
URL:https://das-moerike.de/veranstaltung/bop-der-klassen-10abg/
CATEGORIES:Praktikum
END:VEVENT
BEGIN:VEVENT
DTSTART;TZID=Europe/Berlin:20260420T080000
DTEND;TZID=Europe/Berlin:20260508T170000
DTSTAMP:20260424T011205
CREATED:20260412T105009Z
LAST-MODIFIED:20260412T105009Z
UID:20128-1776672000-1778259600@das-moerike.de
SUMMARY:Outdoorzeit der Klassen 5aRG
DESCRIPTION:
URL:https://das-moerike.de/veranstaltung/outdoorzeit-der-klassen-5arg/
CATEGORIES:Unterstufenkonzept
END:VEVENT
END:VCALENDAR